BEGIN:VCALENDAR
VERSION:2.0
PRODID:-//Sherwood Cruisers - ECPv6.15.20//NONSGML v1.0//EN
CALSCALE:GREGORIAN
METHOD:PUBLISH
X-WR-CALNAME:Sherwood Cruisers
X-ORIGINAL-URL:https://sherwoodcruisers.com
X-WR-CALDESC:Events for Sherwood Cruisers
REFRESH-INTERVAL;VALUE=DURATION:PT1H
X-Robots-Tag:noindex
X-PUBLISHED-TTL:PT1H
BEGIN:VTIMEZONE
TZID:America/Los_Angeles
BEGIN:DAYLIGHT
TZOFFSETFROM:-0800
TZOFFSETTO:-0700
TZNAME:PDT
DTSTART:20210314T100000
END:DAYLIGHT
BEGIN:STANDARD
TZOFFSETFROM:-0700
TZOFFSETTO:-0800
TZNAME:PST
DTSTART:20211107T090000
END:STANDARD
BEGIN:DAYLIGHT
TZOFFSETFROM:-0800
TZOFFSETTO:-0700
TZNAME:PDT
DTSTART:20220313T100000
END:DAYLIGHT
BEGIN:STANDARD
TZOFFSETFROM:-0700
TZOFFSETTO:-0800
TZNAME:PST
DTSTART:20221106T090000
END:STANDARD
BEGIN:DAYLIGHT
TZOFFSETFROM:-0800
TZOFFSETTO:-0700
TZNAME:PDT
DTSTART:20230312T100000
END:DAYLIGHT
BEGIN:STANDARD
TZOFFSETFROM:-0700
TZOFFSETTO:-0800
TZNAME:PST
DTSTART:20231105T090000
END:STANDARD
END:VTIMEZONE
BEGIN:VEVENT
DTSTART;TZID=America/Los_Angeles:20221116T180000
DTEND;TZID=America/Los_Angeles:20221116T193000
DTSTAMP:20260421T051344
CREATED:20191030T210909Z
LAST-MODIFIED:20221018T194310Z
UID:4187-1668621600-1668627000@sherwoodcruisers.com
SUMMARY:Holiday Dinner
DESCRIPTION:Let’s celebrate the holidays together! Dinner at the Old Spaghetti Factory in Sherwood. Spouses/significant others invited and encouraged to come. \n\nWhen: Wednesday\, November 16th\, 6:00 pm\nWhere: Sherwood Old Spaghetti Factory\nWho: Cruiser members and spouse/significant other\nCost: No cost for dinner and non-alcoholic beverages\nHow:  If you haven’t already\, Please RSVP by clicking here\n\nWe’ll be doing some form of toy donations as well; stay tuned for more info to come.
URL:https://sherwoodcruisers.com/calendar/holiday-dinner-2022-11-16/
LOCATION:Old Spaghetti Factory\, 21192 SW Langer Farms Pkwy\, Sherwood\, OR\, 97140\, United States
END:VEVENT
END:VCALENDAR