BEGIN:VCALENDAR
VERSION:2.0
PRODID:-//Sherwood Cruisers - ECPv6.15.20//NONSGML v1.0//EN
CALSCALE:GREGORIAN
METHOD:PUBLISH
X-ORIGINAL-URL:https://sherwoodcruisers.com
X-WR-CALDESC:Events for Sherwood Cruisers
REFRESH-INTERVAL;VALUE=DURATION:PT1H
X-Robots-Tag:noindex
X-PUBLISHED-TTL:PT1H
BEGIN:VTIMEZONE
TZID:America/Los_Angeles
BEGIN:DAYLIGHT
TZOFFSETFROM:-0800
TZOFFSETTO:-0700
TZNAME:PDT
DTSTART:20210314T100000
END:DAYLIGHT
BEGIN:STANDARD
TZOFFSETFROM:-0700
TZOFFSETTO:-0800
TZNAME:PST
DTSTART:20211107T090000
END:STANDARD
BEGIN:DAYLIGHT
TZOFFSETFROM:-0800
TZOFFSETTO:-0700
TZNAME:PDT
DTSTART:20220313T100000
END:DAYLIGHT
BEGIN:STANDARD
TZOFFSETFROM:-0700
TZOFFSETTO:-0800
TZNAME:PST
DTSTART:20221106T090000
END:STANDARD
BEGIN:DAYLIGHT
TZOFFSETFROM:-0800
TZOFFSETTO:-0700
TZNAME:PDT
DTSTART:20230312T100000
END:DAYLIGHT
BEGIN:STANDARD
TZOFFSETFROM:-0700
TZOFFSETTO:-0800
TZNAME:PST
DTSTART:20231105T090000
END:STANDARD
END:VTIMEZONE
BEGIN:VEVENT
DTSTART;TZID=America/Los_Angeles:20220910T080000
DTEND;TZID=America/Los_Angeles:20220910T150000
DTSTAMP:20260421T075950
CREATED:20220730T213238Z
LAST-MODIFIED:20220730T213440Z
UID:4119-1662796800-1662822000@sherwoodcruisers.com
SUMMARY:Sandy Cruisin' Car Show
DESCRIPTION:The Sandy Cruisin’ Car Show is held on the grounds of St. Michael Catholic Church in Sandy. They have raffles\, food\, music and “people’s choice” awards in multiple catagories.\nFind out more and pre-register here.
URL:https://sherwoodcruisers.com/calendar/sandy-cruisin-car-show-2/
LOCATION:St. Michael Catholic Church\, 18090 SE Langensand Road\, Sandy\, OR\, 97055\, United States
END:VEVENT
BEGIN:VEVENT
DTSTART;TZID=America/Los_Angeles:20220911T150000
DTEND;TZID=America/Los_Angeles:20220911T190000
DTSTAMP:20260421T075950
CREATED:20210624T215738Z
LAST-MODIFIED:20220909T231853Z
UID:3500-1662908400-1662922800@sherwoodcruisers.com
SUMMARY:Club Meeting and BBQ Dinner
DESCRIPTION:Our September meeting has been transformed into an “End-of-Summer” celebration! BBQ dinner is provided (no-meat options will be available as well). Bring your ride and let’s celebrate a great summer for the Cruisers. Club members and spouse/significant other only please. We will be meeting at the home of Steve & Susan Klepinger. If you need directions\, email info@sherwoodcruisers.com.
URL:https://sherwoodcruisers.com/calendar/club-meeting-and-bbq-dinner/
LOCATION:OR\, United States
END:VEVENT
BEGIN:VEVENT
DTSTART;TZID=America/Los_Angeles:20220917T080000
DTEND;TZID=America/Los_Angeles:20220917T150000
DTSTAMP:20260421T075950
CREATED:20220916T191145Z
LAST-MODIFIED:20220916T202230Z
UID:4164-1663401600-1663426800@sherwoodcruisers.com
SUMMARY:Mt Angel Oktoberfest Car Show
DESCRIPTION:The Mt Angel Oktoberfest Car Show is Saturday and Sunday (two separate shows).\nThere is no pre-registration\, registration begins at 8:00 am. Registration is in the parking lot of the St. Mary’s public school ( see map below).
URL:https://sherwoodcruisers.com/calendar/mt-angel-oktoberfest-car-show-2/
LOCATION:St. Mary’s Public School\, 590 E College St.\, Mount Angel\, OR\, 97362\, United States
END:VEVENT
BEGIN:VEVENT
DTSTART;TZID=America/Los_Angeles:20220917T080000
DTEND;TZID=America/Los_Angeles:20220917T150000
DTSTAMP:20260421T075950
CREATED:20220916T191145Z
LAST-MODIFIED:20220916T202230Z
UID:4164-1663401600-1663426800@sherwoodcruisers.com
SUMMARY:Mt Angel Oktoberfest Car Show
DESCRIPTION:The Mt Angel Oktoberfest Car Show is Saturday and Sunday (two separate shows).\nThere is no pre-registration\, registration begins at 8:00 am. Registration is in the parking lot of the St. Mary’s public school ( see map below).
URL:https://sherwoodcruisers.com/calendar/mt-angel-oktoberfest-car-show-2/
LOCATION:St. Mary’s Public School\, 590 E College St.\, Mount Angel\, OR\, 97362\, United States
END:VEVENT
BEGIN:VEVENT
DTSTART;TZID=America/Los_Angeles:20220924T110000
DTEND;TZID=America/Los_Angeles:20220924T160000
DTSTAMP:20260421T075950
CREATED:20220823T230536Z
LAST-MODIFIED:20220823T230536Z
UID:4147-1664017200-1664035200@sherwoodcruisers.com
SUMMARY:West Linn Car and Motorcycle Show
DESCRIPTION:
URL:https://sherwoodcruisers.com/calendar/west-linn-car-and-motorcycle-show/
LOCATION:West Linn Mormon Church\, 1395 Rosemont Road\, West Linn\, OR\, 97068\, United States
END:VEVENT
BEGIN:VEVENT
DTSTART;TZID=America/Los_Angeles:20220927T183000
DTEND;TZID=America/Los_Angeles:20220927T203000
DTSTAMP:20260421T075950
CREATED:20190507T205223Z
LAST-MODIFIED:20220909T231551Z
UID:1241-1664303400-1664310600@sherwoodcruisers.com
SUMMARY:A&M Deluxe Custom Visit
DESCRIPTION:A&M Deluxe Customs is hosting a tour of their shop for the Cruisers on Tuesday September 27th\, 6:30 pm. This shop has built several Cruise cars\, along with many other award winning beauties. Check out all their current projects and see behind the scenes of this incredible custom builder!
URL:https://sherwoodcruisers.com/calendar/open-house-at-am/
LOCATION:A&M Deluxe Customs\, 1134 North Fremont Lane\, Cornelius\, OR\, 97113\, United States
END:VEVENT
END:VCALENDAR