BEGIN:VCALENDAR
VERSION:2.0
PRODID:-//Sherwood Cruisers - ECPv6.15.20//NONSGML v1.0//EN
CALSCALE:GREGORIAN
METHOD:PUBLISH
X-WR-CALNAME:Sherwood Cruisers
X-ORIGINAL-URL:https://sherwoodcruisers.com
X-WR-CALDESC:Events for Sherwood Cruisers
REFRESH-INTERVAL;VALUE=DURATION:PT1H
X-Robots-Tag:noindex
X-PUBLISHED-TTL:PT1H
BEGIN:VTIMEZONE
TZID:America/Los_Angeles
BEGIN:DAYLIGHT
TZOFFSETFROM:-0800
TZOFFSETTO:-0700
TZNAME:PDT
DTSTART:20210314T100000
END:DAYLIGHT
BEGIN:STANDARD
TZOFFSETFROM:-0700
TZOFFSETTO:-0800
TZNAME:PST
DTSTART:20211107T090000
END:STANDARD
BEGIN:DAYLIGHT
TZOFFSETFROM:-0800
TZOFFSETTO:-0700
TZNAME:PDT
DTSTART:20220313T100000
END:DAYLIGHT
BEGIN:STANDARD
TZOFFSETFROM:-0700
TZOFFSETTO:-0800
TZNAME:PST
DTSTART:20221106T090000
END:STANDARD
BEGIN:DAYLIGHT
TZOFFSETFROM:-0800
TZOFFSETTO:-0700
TZNAME:PDT
DTSTART:20230312T100000
END:DAYLIGHT
BEGIN:STANDARD
TZOFFSETFROM:-0700
TZOFFSETTO:-0800
TZNAME:PST
DTSTART:20231105T090000
END:STANDARD
END:VTIMEZONE
BEGIN:VEVENT
DTSTART;TZID=America/Los_Angeles:20220716T070000
DTEND;TZID=America/Los_Angeles:20220716T113000
DTSTAMP:20260421T103233
CREATED:20220519T175119Z
LAST-MODIFIED:20220519T175119Z
UID:4008-1657954800-1657971000@sherwoodcruisers.com
SUMMARY:Robin Hood Festival Parade
DESCRIPTION:Join the parade! The Cruisers have been invited to drive their cars in the Sherwood Robin Hood Festival Parade this year. We will line up on Century Boulevard around 7:00 am for the 10:00 am start. There will be a section in Old Town set aside for anyone who wants to park your car for a mini-car show after the parade.
URL:https://sherwoodcruisers.com/calendar/robin-hood-festival-parade-2/
LOCATION:Old Town Sherwood\, Oregon\, 22566 SW Washington St\, Sherwood\, OR\, 97140\, United States
END:VEVENT
BEGIN:VEVENT
DTSTART;TZID=America/Los_Angeles:20220721T150000
DTEND;TZID=America/Los_Angeles:20220721T193000
DTSTAMP:20260421T103233
CREATED:20190531T000736Z
LAST-MODIFIED:20220425T212332Z
UID:1371-1658415600-1658431800@sherwoodcruisers.com
SUMMARY:Marquis Tualatin Annual Car Show & BBQ
DESCRIPTION:This is a fun show! BBQ and live band. No registration fee.
URL:https://sherwoodcruisers.com/calendar/marquis-tualatin-4th-annual-car-show-bbq/
LOCATION:Marquis Tualatin\, 19945 SW Boones Ferry Rd\, Tualatin\, OR\, 97062\, United States
END:VEVENT
BEGIN:VEVENT
DTSTART;TZID=America/Los_Angeles:20220724T120000
DTEND;TZID=America/Los_Angeles:20220724T180000
DTSTAMP:20260421T103233
CREATED:20220624T235323Z
LAST-MODIFIED:20220624T235323Z
UID:4081-1658664000-1658685600@sherwoodcruisers.com
SUMMARY:Aurora Colony Vineyards
DESCRIPTION:Vintage car owners who bring their cars to the winery on July 24\, August 28\, and September 25 will receive a 20% discount on bottles of wine! Simply snap a pic of you and your car at the winery and show it to your server to receive your discount. Enjoy live music\, food and wine tasting!
URL:https://sherwoodcruisers.com/calendar/aurora-colony-vineyards/
LOCATION:Aurora Colony Vineyards\, 21338 Oak Ln NE\, Aurora\, OR\, 97002\, United States
END:VEVENT
BEGIN:VEVENT
DTSTART;TZID=America/Los_Angeles:20220731T090000
DTEND;TZID=America/Los_Angeles:20220731T140000
DTSTAMP:20260421T103233
CREATED:20190625T010400Z
LAST-MODIFIED:20220222T181107Z
UID:1646-1659258000-1659276000@sherwoodcruisers.com
SUMMARY:Newberg Old Fashioned Festival and Car Show
DESCRIPTION:Always a fun event\, Newberg’s Old Fashioned Festival has a lot going on! The cruise-in car show happens on Sunday\, but the festival runs Thursday – Sunday. Click here for details about the festival.
URL:https://sherwoodcruisers.com/calendar/newberg-old-fashioned-festival-and-car-show/
LOCATION:Downtown Newberg\, E 6th Street\, Newberg\, OR\, 97132\, United States
END:VEVENT
END:VCALENDAR