BEGIN:VCALENDAR
VERSION:2.0
PRODID:-//Sherwood Cruisers - ECPv6.15.20//NONSGML v1.0//EN
CALSCALE:GREGORIAN
METHOD:PUBLISH
X-ORIGINAL-URL:https://sherwoodcruisers.com
X-WR-CALDESC:Events for Sherwood Cruisers
REFRESH-INTERVAL;VALUE=DURATION:PT1H
X-Robots-Tag:noindex
X-PUBLISHED-TTL:PT1H
BEGIN:VTIMEZONE
TZID:America/Los_Angeles
BEGIN:DAYLIGHT
TZOFFSETFROM:-0800
TZOFFSETTO:-0700
TZNAME:PDT
DTSTART:20210314T100000
END:DAYLIGHT
BEGIN:STANDARD
TZOFFSETFROM:-0700
TZOFFSETTO:-0800
TZNAME:PST
DTSTART:20211107T090000
END:STANDARD
BEGIN:DAYLIGHT
TZOFFSETFROM:-0800
TZOFFSETTO:-0700
TZNAME:PDT
DTSTART:20220313T100000
END:DAYLIGHT
BEGIN:STANDARD
TZOFFSETFROM:-0700
TZOFFSETTO:-0800
TZNAME:PST
DTSTART:20221106T090000
END:STANDARD
BEGIN:DAYLIGHT
TZOFFSETFROM:-0800
TZOFFSETTO:-0700
TZNAME:PDT
DTSTART:20230312T100000
END:DAYLIGHT
BEGIN:STANDARD
TZOFFSETFROM:-0700
TZOFFSETTO:-0800
TZNAME:PST
DTSTART:20231105T090000
END:STANDARD
END:VTIMEZONE
BEGIN:VEVENT
DTSTART;TZID=America/Los_Angeles:20220603T181500
DTEND;TZID=America/Los_Angeles:20220603T193000
DTSTAMP:20260421T115909
CREATED:20220519T174236Z
LAST-MODIFIED:20220519T174236Z
UID:4005-1654280100-1654284600@sherwoodcruisers.com
SUMMARY:Victory Academy Prom
DESCRIPTION:Victory Academy is Oregon’s only year-round\, accredited school for children\, teens\, and young adults affected by Autism. They are holding this year’s prom event at the Sherwood YMCA\, and titled it “Roaring Through the 20’s and 30’s”. They’ve asked the Cruisers if we would like to drop by and have a mini-car show in the parking lot for photos with the students. If you’re up for it\, have your car there at 6:15 pm. Stay as long as you like\, but will most likely wrap up by 7:30 pm.
URL:https://sherwoodcruisers.com/calendar/victory-academy-prom/
LOCATION:YMCA Sherwood\, 23000 SW Pacific Hwy\, Sherwood\, OR\, 97140\, United States
END:VEVENT
BEGIN:VEVENT
DTSTART;TZID=America/Los_Angeles:20220614T180000
DTEND;TZID=America/Los_Angeles:20220614T193000
DTSTAMP:20260421T115909
CREATED:20220519T172037Z
LAST-MODIFIED:20220519T172037Z
UID:3996-1655229600-1655235000@sherwoodcruisers.com
SUMMARY:2022 Cruisin' Sherwood Volunteer Training
DESCRIPTION:If you have signed up to volunteer for this year’s Cruisin’\, then you will need to attend one of the two training meetings. Choose from either Tuesday June 14th\, or Thursday June 16th.\nBoth meetings will be held at 6:00 pm at the Sherwood Chamber of Commerce office\, located at 16273 SW Railroad Street in Sherwood.
URL:https://sherwoodcruisers.com/calendar/2022-cruisin-sherwood-volunteer-training/
LOCATION:Sherwood Chamber of Commerce\, 16273 SW Railroad Street\, Sherwood\, OR\, 97140\, United States
END:VEVENT
BEGIN:VEVENT
DTSTART;TZID=America/Los_Angeles:20220615T180000
DTEND;TZID=America/Los_Angeles:20220615T193000
DTSTAMP:20260421T115909
CREATED:20220525T230214Z
LAST-MODIFIED:20220525T230214Z
UID:4046-1655316000-1655321400@sherwoodcruisers.com
SUMMARY:2022 Cruisin' Sherwood Judges Training
DESCRIPTION:Training for Cruisin’ Sherwood judges at the Sherwood Chamber of Commerce office.
URL:https://sherwoodcruisers.com/calendar/2022-cruisin-sherwood-judges-training/
LOCATION:Sherwood Chamber of Commerce\, 16273 SW Railroad Street\, Sherwood\, OR\, 97140\, United States
END:VEVENT
BEGIN:VEVENT
DTSTART;TZID=America/Los_Angeles:20220614T180000
DTEND;TZID=America/Los_Angeles:20220614T193000
DTSTAMP:20260421T115909
CREATED:20220519T172037Z
LAST-MODIFIED:20220519T172037Z
UID:3996-1655229600-1655235000@sherwoodcruisers.com
SUMMARY:2022 Cruisin' Sherwood Volunteer Training
DESCRIPTION:If you have signed up to volunteer for this year’s Cruisin’\, then you will need to attend one of the two training meetings. Choose from either Tuesday June 14th\, or Thursday June 16th.\nBoth meetings will be held at 6:00 pm at the Sherwood Chamber of Commerce office\, located at 16273 SW Railroad Street in Sherwood.
URL:https://sherwoodcruisers.com/calendar/2022-cruisin-sherwood-volunteer-training/
LOCATION:Sherwood Chamber of Commerce\, 16273 SW Railroad Street\, Sherwood\, OR\, 97140\, United States
END:VEVENT
BEGIN:VEVENT
DTSTART;TZID=America/Los_Angeles:20220619T110000
DTEND;TZID=America/Los_Angeles:20220619T160000
DTSTAMP:20260421T115909
CREATED:20220519T173402Z
LAST-MODIFIED:20220519T173402Z
UID:4000-1655636400-1655654400@sherwoodcruisers.com
SUMMARY:Father's Day Classic Car Show at Durant Vineyards
DESCRIPTION:The Cruisers have been invited to this very special Father’s Day event at Durant Vineyards. Bring your classic car and enjoy wine\, lunch\, and the beautiful view! The event is 11:00 am to 4:00 pm\, so feel free to drop by. Every Cruiser will receive a bottle of wine and a BBQ lunch from Burt’s Chuckwagon.
URL:https://sherwoodcruisers.com/calendar/fathers-day-classic-car-show-at-durant-vineyards/
LOCATION:Durant Vineyards\, 5510 NE Breyman Orchards Rd\, Dayton\, OR\, 97114\, United States
END:VEVENT
BEGIN:VEVENT
DTSTART;TZID=America/Los_Angeles:20220625T110000
DTEND;TZID=America/Los_Angeles:20220625T133000
DTSTAMP:20260421T115909
CREATED:20220524T025527Z
LAST-MODIFIED:20220621T211102Z
UID:4040-1656154800-1656163800@sherwoodcruisers.com
SUMMARY:Ackerly at Timberland
DESCRIPTION:We’re doing a cruise-by at the Ackerly at Timberland! We’ll meet at Sherwood Safeway at 10:15 am\, and leave there by 10:35 am. For those who want to\, we will stop off and grab some lunch on the way back. \n 
URL:https://sherwoodcruisers.com/calendar/ackerly-at-timberland/
LOCATION:The Ackerly at Timberland\, 11795 NW Cedar Falls Drive\, Portland\, OR\, 97229\, United States
END:VEVENT
BEGIN:VEVENT
DTSTART;TZID=America/Los_Angeles:20220626T100000
DTEND;TZID=America/Los_Angeles:20220626T163000
DTSTAMP:20260421T115909
CREATED:20220519T181234Z
LAST-MODIFIED:20220519T181234Z
UID:4031-1656237600-1656261000@sherwoodcruisers.com
SUMMARY:Tigard Festival of Balloons Car Show
DESCRIPTION:Tigard Festival of Balloons car show is an open cruise-in with trophies in 30 classes. From Roadsters\, Muscle Cars\, Rods\, Classics\, Customs and Exotics to Mustangs\, T-Birds\, Camaros\, Vettes\, Imports\, Lowriders and Pickups\, there is something for everyone. Gates open 10am – 12pm. Trophy ceremony to begin at 3pm. \nOnline registration is available here. Registration is also available onsite Sunday morning for $20. Gates open 10am – 12pm. \nThe Festival of Cars benefits The Meals on Wheels.
URL:https://sherwoodcruisers.com/calendar/tigard-festival-of-balloons-car-show/
LOCATION:Cook Park\, 8680 SW Durham Rd\, Tigard\, OR\, 97224\, United States
END:VEVENT
END:VCALENDAR