BEGIN:VCALENDAR
VERSION:2.0
PRODID:-//Sherwood Cruisers - ECPv6.15.20//NONSGML v1.0//EN
CALSCALE:GREGORIAN
METHOD:PUBLISH
X-WR-CALNAME:Sherwood Cruisers
X-ORIGINAL-URL:https://sherwoodcruisers.com
X-WR-CALDESC:Events for Sherwood Cruisers
REFRESH-INTERVAL;VALUE=DURATION:PT1H
X-Robots-Tag:noindex
X-PUBLISHED-TTL:PT1H
BEGIN:VTIMEZONE
TZID:America/Los_Angeles
BEGIN:DAYLIGHT
TZOFFSETFROM:-0800
TZOFFSETTO:-0700
TZNAME:PDT
DTSTART:20210314T100000
END:DAYLIGHT
BEGIN:STANDARD
TZOFFSETFROM:-0700
TZOFFSETTO:-0800
TZNAME:PST
DTSTART:20211107T090000
END:STANDARD
BEGIN:DAYLIGHT
TZOFFSETFROM:-0800
TZOFFSETTO:-0700
TZNAME:PDT
DTSTART:20220313T100000
END:DAYLIGHT
BEGIN:STANDARD
TZOFFSETFROM:-0700
TZOFFSETTO:-0800
TZNAME:PST
DTSTART:20221106T090000
END:STANDARD
BEGIN:DAYLIGHT
TZOFFSETFROM:-0800
TZOFFSETTO:-0700
TZNAME:PDT
DTSTART:20230312T100000
END:DAYLIGHT
BEGIN:STANDARD
TZOFFSETFROM:-0700
TZOFFSETTO:-0800
TZNAME:PST
DTSTART:20231105T090000
END:STANDARD
END:VTIMEZONE
BEGIN:VEVENT
DTSTART;TZID=America/Los_Angeles:20220327T170000
DTEND;TZID=America/Los_Angeles:20220327T190000
DTSTAMP:20260421T163447
CREATED:20220117T215427Z
LAST-MODIFIED:20220316T192959Z
UID:3818-1648400400-1648407600@sherwoodcruisers.com
SUMMARY:Abby's Pizza Newberg Run
DESCRIPTION:We’re cruisin’ to Newberg for some legendary Abby’s Pizza!\nYou can meet us there at 5:00\, or join the cruise at the Sherwood Safeway parking lot. We’ll leave for Abby’s at 4:45 pm.\nCost for pizza is $10.00 per person\, payable at the door. You can buy your own drinks.
URL:https://sherwoodcruisers.com/calendar/abbys-pizza-newberg-run/
LOCATION:Abby’s Pizza\, 1913 Portland Rd\, Newberg\, OR\, 97132\, United States
END:VEVENT
END:VCALENDAR