BEGIN:VCALENDAR
VERSION:2.0
PRODID:-//Sherwood Cruisers - ECPv6.15.20//NONSGML v1.0//EN
CALSCALE:GREGORIAN
METHOD:PUBLISH
X-WR-CALNAME:Sherwood Cruisers
X-ORIGINAL-URL:https://sherwoodcruisers.com
X-WR-CALDESC:Events for Sherwood Cruisers
REFRESH-INTERVAL;VALUE=DURATION:PT1H
X-Robots-Tag:noindex
X-PUBLISHED-TTL:PT1H
BEGIN:VTIMEZONE
TZID:America/Los_Angeles
BEGIN:DAYLIGHT
TZOFFSETFROM:-0800
TZOFFSETTO:-0700
TZNAME:PDT
DTSTART:20200308T100000
END:DAYLIGHT
BEGIN:STANDARD
TZOFFSETFROM:-0700
TZOFFSETTO:-0800
TZNAME:PST
DTSTART:20201101T090000
END:STANDARD
BEGIN:DAYLIGHT
TZOFFSETFROM:-0800
TZOFFSETTO:-0700
TZNAME:PDT
DTSTART:20210314T100000
END:DAYLIGHT
BEGIN:STANDARD
TZOFFSETFROM:-0700
TZOFFSETTO:-0800
TZNAME:PST
DTSTART:20211107T090000
END:STANDARD
BEGIN:DAYLIGHT
TZOFFSETFROM:-0800
TZOFFSETTO:-0700
TZNAME:PDT
DTSTART:20220313T100000
END:DAYLIGHT
BEGIN:STANDARD
TZOFFSETFROM:-0700
TZOFFSETTO:-0800
TZNAME:PST
DTSTART:20221106T090000
END:STANDARD
END:VTIMEZONE
BEGIN:VEVENT
DTSTART;TZID=America/Los_Angeles:20210717T100000
DTEND;TZID=America/Los_Angeles:20210717T150000
DTSTAMP:20260422T041755
CREATED:20210715T212016Z
LAST-MODIFIED:20210715T212016Z
UID:3635-1626516000-1626534000@sherwoodcruisers.com
SUMMARY:West Linn Summer Fun Day Car Show
DESCRIPTION:This is a fun show on the grass at Willamette Park by the river in West Linn. No pre-registration\, but there is a $10.00 fee upon entry. We will leave from the Sherwood Safeway parking lot promptly at 10:00 am.
URL:https://sherwoodcruisers.com/calendar/west-linn-summer-fun-day-car-show/
LOCATION:Willamette Park\, 1100 12th Street\, West Linn\, OR\, 97068\, United States
END:VEVENT
BEGIN:VEVENT
DTSTART;TZID=America/Los_Angeles:20210724T090000
DTEND;TZID=America/Los_Angeles:20210724T150000
DTSTAMP:20260422T041755
CREATED:20210720T191405Z
LAST-MODIFIED:20210720T191405Z
UID:3649-1627117200-1627138800@sherwoodcruisers.com
SUMMARY:Stro's Summerfest Car Show
DESCRIPTION:Stro’s Summerfest Car Show at the Sublimity Festival Grounds is a benefit for the Brent Strohmeyer Memorial Scholarship fund. Breakfast and lunch is available\, and awards will be given. Day of show entry fee is $20.00.
URL:https://sherwoodcruisers.com/calendar/stros-summerfest-car-show/
LOCATION:Sublimity Festival Grounds\, 11880 Sublimity Rd SE\, Sublimity\, OR\, 97385\, United States
END:VEVENT
END:VCALENDAR