BEGIN:VCALENDAR
VERSION:2.0
PRODID:-//Sherwood Cruisers - ECPv6.15.20//NONSGML v1.0//EN
CALSCALE:GREGORIAN
METHOD:PUBLISH
X-WR-CALNAME:Sherwood Cruisers
X-ORIGINAL-URL:https://sherwoodcruisers.com
X-WR-CALDESC:Events for Sherwood Cruisers
REFRESH-INTERVAL;VALUE=DURATION:PT1H
X-Robots-Tag:noindex
X-PUBLISHED-TTL:PT1H
BEGIN:VTIMEZONE
TZID:America/Los_Angeles
BEGIN:DAYLIGHT
TZOFFSETFROM:-0800
TZOFFSETTO:-0700
TZNAME:PDT
DTSTART:20190310T100000
END:DAYLIGHT
BEGIN:STANDARD
TZOFFSETFROM:-0700
TZOFFSETTO:-0800
TZNAME:PST
DTSTART:20191103T090000
END:STANDARD
BEGIN:DAYLIGHT
TZOFFSETFROM:-0800
TZOFFSETTO:-0700
TZNAME:PDT
DTSTART:20200308T100000
END:DAYLIGHT
BEGIN:STANDARD
TZOFFSETFROM:-0700
TZOFFSETTO:-0800
TZNAME:PST
DTSTART:20201101T090000
END:STANDARD
BEGIN:DAYLIGHT
TZOFFSETFROM:-0800
TZOFFSETTO:-0700
TZNAME:PDT
DTSTART:20210314T100000
END:DAYLIGHT
BEGIN:STANDARD
TZOFFSETFROM:-0700
TZOFFSETTO:-0800
TZNAME:PST
DTSTART:20211107T090000
END:STANDARD
END:VTIMEZONE
BEGIN:VEVENT
DTSTART;TZID=America/Los_Angeles:20200402T070000
DTEND;TZID=America/Los_Angeles:20200402T170000
DTSTAMP:20260422T210351
CREATED:20191205T183447Z
LAST-MODIFIED:20191205T183447Z
UID:2957-1585810800-1585846800@sherwoodcruisers.com
SUMMARY:PIR Swap Meet
DESCRIPTION:Hosted annually by six Portland Oregon area antique car clubs\, The Portland Swap Meet is the largest auto parts swap meet on the west coast with approximately vendor stalls and over 50\,000 shoppers each April at the Portland Expo Center.\nGeneral admission: $8.00 per day (children 12 and under are free)\nParking: $10.00 per day
URL:https://sherwoodcruisers.com/calendar/pir-swap-meet/
LOCATION:Portland Expo Center\, 2060 North Marine Dr.\, Portland\, OR\, 97217\, United States
END:VEVENT
BEGIN:VEVENT
DTSTART;TZID=America/Los_Angeles:20200402T070000
DTEND;TZID=America/Los_Angeles:20200402T170000
DTSTAMP:20260422T210351
CREATED:20191205T183447Z
LAST-MODIFIED:20191205T183447Z
UID:2957-1585810800-1585846800@sherwoodcruisers.com
SUMMARY:PIR Swap Meet
DESCRIPTION:Hosted annually by six Portland Oregon area antique car clubs\, The Portland Swap Meet is the largest auto parts swap meet on the west coast with approximately vendor stalls and over 50\,000 shoppers each April at the Portland Expo Center.\nGeneral admission: $8.00 per day (children 12 and under are free)\nParking: $10.00 per day
URL:https://sherwoodcruisers.com/calendar/pir-swap-meet/
LOCATION:Portland Expo Center\, 2060 North Marine Dr.\, Portland\, OR\, 97217\, United States
END:VEVENT
BEGIN:VEVENT
DTSTART;TZID=America/Los_Angeles:20200402T070000
DTEND;TZID=America/Los_Angeles:20200402T170000
DTSTAMP:20260422T210351
CREATED:20191205T183447Z
LAST-MODIFIED:20191205T183447Z
UID:2957-1585810800-1585846800@sherwoodcruisers.com
SUMMARY:PIR Swap Meet
DESCRIPTION:Hosted annually by six Portland Oregon area antique car clubs\, The Portland Swap Meet is the largest auto parts swap meet on the west coast with approximately vendor stalls and over 50\,000 shoppers each April at the Portland Expo Center.\nGeneral admission: $8.00 per day (children 12 and under are free)\nParking: $10.00 per day
URL:https://sherwoodcruisers.com/calendar/pir-swap-meet/
LOCATION:Portland Expo Center\, 2060 North Marine Dr.\, Portland\, OR\, 97217\, United States
END:VEVENT
BEGIN:VEVENT
DTSTART;TZID=America/Los_Angeles:20200319T183000
DTEND;TZID=America/Los_Angeles:20200319T193000
DTSTAMP:20260422T210351
CREATED:20190118T060113Z
LAST-MODIFIED:20200307T000120Z
UID:2978-1584642600-1584646200@sherwoodcruisers.com
SUMMARY:Member Meeting
DESCRIPTION:Join us for our monthly membership meeting in the Community Room at Langer’s Entertainment Center in Sherwood. New and potential members welcome!
URL:https://sherwoodcruisers.com/calendar/member-meeting-2020-03-19/
LOCATION:Langer’s Entertainment Center\, 21650 SW Langer Farms Pkwy\, Sherwood\, OR\, 97140\, United States
END:VEVENT
END:VCALENDAR