BEGIN:VCALENDAR
VERSION:2.0
PRODID:-//Sherwood Cruisers - ECPv6.15.20//NONSGML v1.0//EN
CALSCALE:GREGORIAN
METHOD:PUBLISH
X-ORIGINAL-URL:https://sherwoodcruisers.com
X-WR-CALDESC:Events for Sherwood Cruisers
REFRESH-INTERVAL;VALUE=DURATION:PT1H
X-Robots-Tag:noindex
X-PUBLISHED-TTL:PT1H
BEGIN:VTIMEZONE
TZID:America/Los_Angeles
BEGIN:DAYLIGHT
TZOFFSETFROM:-0800
TZOFFSETTO:-0700
TZNAME:PDT
DTSTART:20180311T100000
END:DAYLIGHT
BEGIN:STANDARD
TZOFFSETFROM:-0700
TZOFFSETTO:-0800
TZNAME:PST
DTSTART:20181104T090000
END:STANDARD
BEGIN:DAYLIGHT
TZOFFSETFROM:-0800
TZOFFSETTO:-0700
TZNAME:PDT
DTSTART:20190310T100000
END:DAYLIGHT
BEGIN:STANDARD
TZOFFSETFROM:-0700
TZOFFSETTO:-0800
TZNAME:PST
DTSTART:20191103T090000
END:STANDARD
BEGIN:DAYLIGHT
TZOFFSETFROM:-0800
TZOFFSETTO:-0700
TZNAME:PDT
DTSTART:20200308T100000
END:DAYLIGHT
BEGIN:STANDARD
TZOFFSETFROM:-0700
TZOFFSETTO:-0800
TZNAME:PST
DTSTART:20201101T090000
END:STANDARD
END:VTIMEZONE
BEGIN:VEVENT
DTSTART;TZID=America/Los_Angeles:20190614T080000
DTEND;TZID=America/Los_Angeles:20190614T090000
DTSTAMP:20260423T084006
CREATED:20190605T001421Z
LAST-MODIFIED:20190605T173026Z
UID:1415-1560499200-1560502800@sherwoodcruisers.com
SUMMARY:Friday Morning Breakfast at ihop
DESCRIPTION:Friday morning get together at ihop- every third Friday.
URL:https://sherwoodcruisers.com/calendar/friday-morning-breakfast-at-ihop/
LOCATION:ihop Sherwood\, 16814 SW Edy Rd\, Suite 121\, Sherwood\, OR\, 97140\, United States
END:VEVENT
BEGIN:VEVENT
DTSTART;TZID=America/Los_Angeles:20190713T080000
DTEND;TZID=America/Los_Angeles:20190713T143000
DTSTAMP:20260423T084006
CREATED:20190713T011815Z
LAST-MODIFIED:20190713T011841Z
UID:1676-1563004800-1563028200@sherwoodcruisers.com
SUMMARY:Dayton Pirate Cruise-in
DESCRIPTION:Not sure if you have to dress or talk like a pirate\, but it should be a fun event!\nWe’ll meet at Sherwood Safeway at 7:30 am. Registration is at 8:00 am. Sounds like a tasty lunch will be served for $10.00.
URL:https://sherwoodcruisers.com/calendar/daton-pirate-cruise-in/
LOCATION:Dayton City Park\, 402 3rd St\, Dayton\, OR\, 97114\, United States
END:VEVENT
BEGIN:VEVENT
DTSTART;TZID=America/Los_Angeles:20190714T100000
DTEND;TZID=America/Los_Angeles:20190714T140000
DTSTAMP:20260423T084006
CREATED:20190703T213418Z
LAST-MODIFIED:20190703T213418Z
UID:1660-1563098400-1563112800@sherwoodcruisers.com
SUMMARY:McMinnville Turkey Rama
DESCRIPTION:
URL:https://sherwoodcruisers.com/calendar/mcminnville-turkey-rama/
LOCATION:Downtown McMinnville\, Northeast 3rd Street\, McMinnville\, OR\, 97128\, United States
END:VEVENT
BEGIN:VEVENT
DTSTART;TZID=America/Los_Angeles:20190117T183000
DTEND;TZID=America/Los_Angeles:20190117T193000
DTSTAMP:20260423T084006
CREATED:20190118T060113Z
LAST-MODIFIED:20200111T214154Z
UID:405-1547749800-1547753400@sherwoodcruisers.com
SUMMARY:Member Meeting
DESCRIPTION:Join us for our monthly membership meeting in the Community Room at Edy Ridge School. New and potential members welcome!
URL:https://sherwoodcruisers.com/calendar/member-meeting/
LOCATION:Edy Ridge Community Room\, 21472 SW Copper Terrace\, Sherwood\, 97140\, United States
END:VEVENT
BEGIN:VEVENT
DTSTART;TZID=America/Los_Angeles:20190607T080000
DTEND;TZID=America/Los_Angeles:20190607T090000
DTSTAMP:20260423T084006
CREATED:20190201T042544Z
LAST-MODIFIED:20190906T030937Z
UID:664-1559894400-1559898000@sherwoodcruisers.com
SUMMARY:Friday Morning Breakfast at McKenzie Pub
DESCRIPTION:Informal breakfast gathering.
URL:https://sherwoodcruisers.com/calendar/friday-morning-breakfast-2019-06-07/
LOCATION:McKenzie Pub\, 16450 SW Langer Dr\, Sherwood\, OR\, 97140\, United States
END:VEVENT
BEGIN:VEVENT
DTSTART;TZID=America/Los_Angeles:20190720T100000
DTEND;TZID=America/Los_Angeles:20190720T110000
DTSTAMP:20260423T084006
CREATED:20190716T165844Z
LAST-MODIFIED:20190716T165844Z
UID:1680-1563616800-1563620400@sherwoodcruisers.com
SUMMARY:Robin Hood Festival Parade
DESCRIPTION:We’ve been invited to drive in the Robin Hood Festival parade. Meet at the designated starting point on SW Century Drive by 9:15 am. The parade starts at 10:00 am and lasts approximately one hour. There is no need to register for the parade- we will be under the Les Schwab banner.
URL:https://sherwoodcruisers.com/calendar/robin-hood-festival-parade/
LOCATION:Robin Hood Parade\, SW Century Drive\, Sherwood\, OR\, 97140\, United States
END:VEVENT
BEGIN:VEVENT
DTSTART;TZID=America/Los_Angeles:20190721T070000
DTEND;TZID=America/Los_Angeles:20190721T130000
DTSTAMP:20260423T084006
CREATED:20190703T215252Z
LAST-MODIFIED:20190703T215252Z
UID:1666-1563692400-1563714000@sherwoodcruisers.com
SUMMARY:Sandy Kiwanis Cruise-in
DESCRIPTION:Pancake breakfast and show-and-shine at Oral Hull Park in Sandy! Registration is $15.00 per car. Find out more and pre-register here.
URL:https://sherwoodcruisers.com/calendar/sandy-kiwanis-cruise-in/
LOCATION:Oral Hull Park\, 43233 SE Oral Hull Rd.\, Sandy\, OR\, 97055\, United States
END:VEVENT
BEGIN:VEVENT
DTSTART;TZID=America/Los_Angeles:20190614T080000
DTEND;TZID=America/Los_Angeles:20190614T090000
DTSTAMP:20260423T084006
CREATED:20190605T001421Z
LAST-MODIFIED:20190605T173026Z
UID:1415-1560499200-1560502800@sherwoodcruisers.com
SUMMARY:Friday Morning Breakfast at ihop
DESCRIPTION:Friday morning get together at ihop- every third Friday.
URL:https://sherwoodcruisers.com/calendar/friday-morning-breakfast-at-ihop/
LOCATION:ihop Sherwood\, 16814 SW Edy Rd\, Suite 121\, Sherwood\, OR\, 97140\, United States
END:VEVENT
BEGIN:VEVENT
DTSTART;TZID=America/Los_Angeles:20190728T070000
DTEND;TZID=America/Los_Angeles:20190728T150000
DTSTAMP:20260423T084006
CREATED:20190603T004410Z
LAST-MODIFIED:20190603T004410Z
UID:1380-1564297200-1564326000@sherwoodcruisers.com
SUMMARY:A Day in the Park Dallas Car Show
DESCRIPTION:This is a top notch and family friendly car show and breakfast in a beautiful park setting\, put on by the Dallas Rotary Club.\nFind out more and register here.
URL:https://sherwoodcruisers.com/calendar/a-day-in-the-park-dallas-car-show/
LOCATION:Dallas City Park\, 266 SW Academy St.\, Dallas\, OR\, 97338\, United States
END:VEVENT
BEGIN:VEVENT
DTSTART;TZID=America/Los_Angeles:20190728T153000
DTEND;TZID=America/Los_Angeles:20190728T183000
DTSTAMP:20260423T084006
CREATED:20190723T214705Z
LAST-MODIFIED:20190723T214705Z
UID:1688-1564327800-1564338600@sherwoodcruisers.com
SUMMARY:SW Bible 14th Annual Car Show
DESCRIPTION:  \n  \n  \n  \n  \n  \nNot only is this show free\, but includes a free BBQ dinner for you (and your guest)! Register online here thru July 25th. You can register in person day of as well – no charge. Gates open at 3:30 pm\, awards at 6:00 pm.
URL:https://sherwoodcruisers.com/calendar/sw-bible-14th-annual-car-show/
LOCATION:SW Bible Church\, 14605 SW Weir Rd\, Beaverton\, OR\, 97007\, United States
END:VEVENT
END:VCALENDAR