BEGIN:VCALENDAR
VERSION:2.0
PRODID:-//Sherwood Cruisers - ECPv6.15.20//NONSGML v1.0//EN
CALSCALE:GREGORIAN
METHOD:PUBLISH
X-WR-CALNAME:Sherwood Cruisers
X-ORIGINAL-URL:https://sherwoodcruisers.com
X-WR-CALDESC:Events for Sherwood Cruisers
REFRESH-INTERVAL;VALUE=DURATION:PT1H
X-Robots-Tag:noindex
X-PUBLISHED-TTL:PT1H
BEGIN:VTIMEZONE
TZID:America/Los_Angeles
BEGIN:DAYLIGHT
TZOFFSETFROM:-0800
TZOFFSETTO:-0700
TZNAME:PDT
DTSTART:20180311T100000
END:DAYLIGHT
BEGIN:STANDARD
TZOFFSETFROM:-0700
TZOFFSETTO:-0800
TZNAME:PST
DTSTART:20181104T090000
END:STANDARD
BEGIN:DAYLIGHT
TZOFFSETFROM:-0800
TZOFFSETTO:-0700
TZNAME:PDT
DTSTART:20190310T100000
END:DAYLIGHT
BEGIN:STANDARD
TZOFFSETFROM:-0700
TZOFFSETTO:-0800
TZNAME:PST
DTSTART:20191103T090000
END:STANDARD
BEGIN:DAYLIGHT
TZOFFSETFROM:-0800
TZOFFSETTO:-0700
TZNAME:PDT
DTSTART:20200308T100000
END:DAYLIGHT
BEGIN:STANDARD
TZOFFSETFROM:-0700
TZOFFSETTO:-0800
TZNAME:PST
DTSTART:20201101T090000
END:STANDARD
END:VTIMEZONE
BEGIN:VEVENT
DTSTART;TZID=America/Los_Angeles:20190511T060000
DTEND;TZID=America/Los_Angeles:20190511T113000
DTSTAMP:20260423T070918
CREATED:20190509T201001Z
LAST-MODIFIED:20190509T201001Z
UID:1246-1557554400-1557574200@sherwoodcruisers.com
SUMMARY:Portland Transmission Spring Cruise
DESCRIPTION:For 28 years Portland Transmission Warehouse has hosted it’s Spring Classic auto gathering in their parking lot and adjoining streets.  The event has grown from just 28 cars in 1983 to 550 plus registered cars in 2010 and many\, many more unregistered.  It is a free event\, with Portland Transmission ballcaps and dashplaques provided to all registered vehicles\, and complimentary coffee\, cookies\, hot dogs\, and soda pop for everyone in attendance. If you want to register your vehicle\, be there no later than 6:00 am.
URL:https://sherwoodcruisers.com/calendar/portland-transmission-spring-cruise/
LOCATION:Portland Transmission\, 1016 SE Hawthorne Blvd.\, Portland\, OR\, 97214\, United States
END:VEVENT
BEGIN:VEVENT
DTSTART;TZID=America/Los_Angeles:20190117T183000
DTEND;TZID=America/Los_Angeles:20190117T193000
DTSTAMP:20260423T070918
CREATED:20190118T060113Z
LAST-MODIFIED:20200111T214154Z
UID:405-1547749800-1547753400@sherwoodcruisers.com
SUMMARY:Member Meeting
DESCRIPTION:Join us for our monthly membership meeting in the Community Room at Edy Ridge School. New and potential members welcome!
URL:https://sherwoodcruisers.com/calendar/member-meeting/
LOCATION:Edy Ridge Community Room\, 21472 SW Copper Terrace\, Sherwood\, 97140\, United States
END:VEVENT
BEGIN:VEVENT
DTSTART;TZID=America/Los_Angeles:20190518T100000
DTEND;TZID=America/Los_Angeles:20190518T160000
DTSTAMP:20260423T070918
CREATED:20190221T005623Z
LAST-MODIFIED:20190321T182147Z
UID:883-1558173600-1558195200@sherwoodcruisers.com
SUMMARY:Clark Lumber Car Show
DESCRIPTION:Car show time! Let’s represent the Sherwood Cruisers at the Clark Lumber Car Show. Register for the show here.
URL:https://sherwoodcruisers.com/calendar/clark-lumber-car-show/
LOCATION:Southwest Church of Christ\, 9725 SW Durham Rd\, Tigard\, OR\, 97224\, United States
END:VEVENT
END:VCALENDAR